BEGIN:VCALENDAR
VERSION:2.0
PRODID:-//Group Relations Australia - ECPv5.0.2.1//NONSGML v1.0//EN
CALSCALE:GREGORIAN
METHOD:PUBLISH
X-WR-CALNAME:Group Relations Australia
X-ORIGINAL-URL:https://www.grouprelations.org.au
X-WR-CALDESC:Events for Group Relations Australia
BEGIN:VTIMEZONE
TZID:Australia/Melbourne
BEGIN:STANDARD
TZOFFSETFROM:+1100
TZOFFSETTO:+1000
TZNAME:AEST
DTSTART:20190406T160000
END:STANDARD
BEGIN:DAYLIGHT
TZOFFSETFROM:+1000
TZOFFSETTO:+1100
TZNAME:AEDT
DTSTART:20191005T160000
END:DAYLIGHT
END:VTIMEZONE
BEGIN:VEVENT
DTSTART;TZID=Australia/Melbourne:20191109T093000
DTEND;TZID=Australia/Melbourne:20191109T140000
DTSTAMP:20200229T161259
CREATED:20191016T064838Z
LAST-MODIFIED:20191108T220347Z
UID:506-1573291800-1573308000@www.grouprelations.org.au
SUMMARY:Annual GRA members day
DESCRIPTION:\n				\n				\n				\n				\n					\n				\n				\n				\n				\n				\n				\n				GRA invites you to join the GRA Annual General Meeting and Member’s Day. The launch of the new GRA website will be included as part of this event. Please RSVP to Charlotte by the 26th October via email: administrator@grouprelations.org.au\n			 \n			 \n				\n				\n			 \n				\n				\n			 \n
URL:https://www.grouprelations.org.au/event/annual-gra-members-day/
LOCATION:VAPP\, 18 Erin St\, Richmond\, VIC\, Australia
CATEGORIES:GRA Events
ATTACH;FMTTYPE=image/jpeg:https://www.grouprelations.org.au/wp-content/uploads/2019/10/sps-universal-MnPF-0DTQ5c-unsplash.jpg
ORGANIZER;CN="Charlotte":MAILTO:administrator@grouprelations.org.au
END:VEVENT
END:VCALENDAR