BEGIN:VCALENDAR
VERSION:2.0
PRODID:-//Group Relations Australia - ECPv5.0.2.1//NONSGML v1.0//EN
CALSCALE:GREGORIAN
METHOD:PUBLISH
X-WR-CALNAME:Group Relations Australia
X-ORIGINAL-URL:https://www.grouprelations.org.au
X-WR-CALDESC:Events for Group Relations Australia
BEGIN:VTIMEZONE
TZID:Australia/Melbourne
BEGIN:STANDARD
TZOFFSETFROM:+1100
TZOFFSETTO:+1000
TZNAME:AEST
DTSTART:20190406T160000
END:STANDARD
BEGIN:DAYLIGHT
TZOFFSETFROM:+1000
TZOFFSETTO:+1100
TZNAME:AEDT
DTSTART:20191005T160000
END:DAYLIGHT
END:VTIMEZONE
BEGIN:VEVENT
DTSTART;TZID=Australia/Melbourne:20191205T183000
DTEND;TZID=Australia/Melbourne:20191205T210000
DTSTAMP:20200229T160221
CREATED:20191031T000426Z
LAST-MODIFIED:20191113T053934Z
UID:602-1575570600-1575579600@www.grouprelations.org.au
SUMMARY:Leslie Brissett Seminar – 'Light and Shade: Working Across Cultural Boundaries'
DESCRIPTION:Dr Leslie Brissett is the Director of the Group relations Programme at the Tavistock Institute of Human Relations and has kindly agreed to lead a seminar on ‘Working Across Cultural Boundaries’ on Thursday 5th of December at 6.30pm. The seminar topic foreshadows the theme of GRA’s 2020 conference. \nLeslie has directed the last four Leicester Conferences. He has also been centrally involved in many international Group Relations Conferences\, including being on staff at the GRA 2018 conference – ‘Collaboration and Competition’ and the 2019 NIODA Working Conference\, ‘Identity\, Gender\, Authority and Community at Work’. He was also a Member British Psychoanalytic Council’s Independent Scrutiny and Advisory Committee\, the first attempt at engaging a lay audience in debates around the promotion of the profession and protecting the public. \nHuman systems are constructed and as such are always loaded with meaning and carry embedded assumptions about “self” and “other”. The linking of these two apparent opposites\, is rooted in the location of the boundary between the two\, It is the boundary that connects and simultaneously creates the apparent opposites. Leslie holds the view that in a Group relations context\, we can actually experience the boundary and so develop capacities to live and work in the interconnected\, interdependent spaces that hold us together. This could be articulated as a lived experience of “liminality”\, the threshold into disorientation and ambiguity\, a gift from the group relations learning environment. \nLeslie brings an experienced and powerful perspective to issues of working across cultural boundaries – from the Leicester and other group relations conferences and from his consulting work with executive groups in a wide range of organisations. Leslie says\, “it would be a privilege to encounter “others” in a shared exploration of authority\, role and the mediation of boundaries.” This promises to be a space of inquiry for senior managers\, consultants and anyone interested in the current challenges of engaging in role in our interdependent cultural matrix. \nBooking fee:\nMembers: $45 /  Non-members: $60 \nTo book a place please visit the Eventbrite page \n
URL:https://www.grouprelations.org.au/event/leslie-brissett-seminar-authority-and-role-across-cultural-boundaries/
LOCATION:VAPP\, 18 Erin St\, Richmond\, VIC\, Australia
CATEGORIES:GRA Events
ATTACH;FMTTYPE=image/jpeg:https://www.grouprelations.org.au/wp-content/uploads/2019/10/Leslie-Brissett.jpg
END:VEVENT
END:VCALENDAR