BEGIN:VCALENDAR
VERSION:2.0
PRODID:-//Group Relations Australia - ECPv5.0.2.1//NONSGML v1.0//EN
CALSCALE:GREGORIAN
METHOD:PUBLISH
X-WR-CALNAME:Group Relations Australia
X-ORIGINAL-URL:https://www.grouprelations.org.au
X-WR-CALDESC:Events for Group Relations Australia
BEGIN:VTIMEZONE
TZID:Australia/Melbourne
BEGIN:STANDARD
TZOFFSETFROM:+1100
TZOFFSETTO:+1000
TZNAME:AEST
DTSTART:20200404T160000
END:STANDARD
BEGIN:DAYLIGHT
TZOFFSETFROM:+1000
TZOFFSETTO:+1100
TZNAME:AEDT
DTSTART:20201003T160000
END:DAYLIGHT
END:VTIMEZONE
BEGIN:VEVENT
DTSTART;TZID=Australia/Melbourne:20200113T173000
DTEND;TZID=Australia/Melbourne:20200113T203000
DTSTAMP:20200229T160241
CREATED:20191231T000714Z
LAST-MODIFIED:20200103T115554Z
UID:605-1578936600-1578947400@www.grouprelations.org.au
SUMMARY:Listening Post: 'Australia and the World at the dawn of 2020'
DESCRIPTION:\n\n\nListening Posts are reflective spaces in which to take a ‘snapshot’ of society at a particular moment. They explore the idea that a small group\, when studying the behaviour of the wider social system that is society\, will unconsciously express some of its characteristics and that these are discernible from the themes and patterns emerging from the discussion. \nListening Posts will be held concurrently in around thirty countries and their joint conclusions presented as Global Report \n\n\n\n\nProgramme: \n\n\n5:30 – 6:00 Registration\n6:00 – 7:00 The sharing of preoccupations and experiences\n7:00 – 7:30 Working refreshments and identification of major themes\n7:30 – 8:30 Analysis and hypothesis formation\n8:30 End \n\nRegistrations to administrator@grouprelations.org.au\nFree for GRA Members / $25 for non-members \n\n\n\n\n
URL:https://www.grouprelations.org.au/event/2020listeningpost/
LOCATION:VAPP\, 18 Erin St\, Richmond\, VIC\, Australia
CATEGORIES:GRA Events
ATTACH;FMTTYPE=image/jpeg:https://www.grouprelations.org.au/wp-content/uploads/2020/01/IMG_0185.jpg
END:VEVENT
END:VCALENDAR